Package: assorthead Version: 1.1.13 Command: /home/rapidbuild/bbs-3.21-bioc-rapid/R/bin/R CMD INSTALL assorthead StartedAt: 2025-02-11 06:04:34 -0500 (Tue, 11 Feb 2025) EndedAt: 2025-02-11 06:04:36 -0500 (Tue, 11 Feb 2025) EllapsedTime: 1.6 seconds RetCode: 0 Status: OK