Package: basilisk.utils Version: 1.19.0 Command: /home/rapidbuild/bbs-3.21-bioc-rapid/R/bin/R CMD INSTALL basilisk.utils StartedAt: 2025-02-10 06:06:22 -0500 (Mon, 10 Feb 2025) EndedAt: 2025-02-10 06:06:25 -0500 (Mon, 10 Feb 2025) EllapsedTime: 3.0 seconds RetCode: 0 Status: OK