Package: basilisk
Version: 1.19.1
Command: /home/rapidbuild/bbs-3.21-bioc-rapid/R/bin/R CMD INSTALL basilisk
StartedAt: 2025-02-21 12:12:09 -0500 (Fri, 21 Feb 2025)
EndedAt: 2025-02-21 12:12:14 -0500 (Fri, 21 Feb 2025)
EllapsedTime: 5.0 seconds
RetCode: 0
Status: OK