Package: beachmat Version: 2.23.6 Command: /home/rapidbuild/bbs-3.21-bioc-rapid/R/bin/R CMD build --keep-empty-dirs --no-resave-data beachmat StartedAt: 2025-02-06 06:35:15 -0500 (Thu, 06 Feb 2025) EndedAt: 2025-02-06 06:39:23 -0500 (Thu, 06 Feb 2025) EllapsedTime: 247.3 seconds RetCode: 0 Status: OK PackageFile: beachmat_2.23.6.tar.gz PackageFileSize: 368.6 KiB