Package: beachmat Version: 2.23.6 Command: /home/rapidbuild/bbs-3.21-bioc-rapid/R/bin/R CMD INSTALL beachmat StartedAt: 2025-02-06 06:15:59 -0500 (Thu, 06 Feb 2025) EndedAt: 2025-02-06 06:20:14 -0500 (Thu, 06 Feb 2025) EllapsedTime: 255.3 seconds RetCode: 0 Status: OK