Package: biomaRt Version: 2.63.1 Command: /home/rapidbuild/bbs-3.21-bioc-rapid/R/bin/R CMD INSTALL biomaRt StartedAt: 2025-02-10 06:22:31 -0500 (Mon, 10 Feb 2025) EndedAt: 2025-02-10 06:22:44 -0500 (Mon, 10 Feb 2025) EllapsedTime: 13.0 seconds RetCode: 0 Status: OK