Package: biomformat
Version: 1.35.0
Command: /home/rapidbuild/bbs-3.21-bioc-rapid/R/bin/R CMD check --install=check:biomformat.install-out.txt --library=/home/rapidbuild/bbs-3.21-bioc-rapid/R/site-library --timings biomformat_1.35.0.tar.gz
StartedAt: 2025-02-20 13:53:26 -0500 (Thu, 20 Feb 2025)
EndedAt: 2025-02-20 13:54:05 -0500 (Thu, 20 Feb 2025)
EllapsedTime: 38.3 seconds
RetCode: 0
Status: OK
CheckDir: biomformat.Rcheck
Warnings: 0