Package: chihaya Version: 1.7.0 Command: /home/rapidbuild/bbs-3.21-bioc-rapid/R/bin/R CMD build --keep-empty-dirs --no-resave-data chihaya StartedAt: 2025-02-06 06:41:35 -0500 (Thu, 06 Feb 2025) EndedAt: 2025-02-06 06:42:13 -0500 (Thu, 06 Feb 2025) EllapsedTime: 38.0 seconds RetCode: 0 Status: OK PackageFile: chihaya_1.7.0.tar.gz PackageFileSize: 258.3 KiB