############################################################################## ############################################################################## ### ### Running command: ### ### /home/rapidbuild/bbs-3.21-bioc-rapid/R/bin/R CMD INSTALL chihaya ### ############################################################################## ############################################################################## * installing to library ‘/media/volume/teran2_disk/rapidbuild/bbs-3.21-bioc-rapid/R/site-library’ * installing *source* package ‘chihaya’ ... ** this is package ‘chihaya’ version ‘1.7.0’ ** using staged installation ** libs using C++ compiler: ‘g++ (Ubuntu 13.3.0-6ubuntu2~24.04) 13.3.0’ using C++17 g++ -std=gnu++17 -I"/home/rapidbuild/bbs-3.21-bioc-rapid/R/include" -DNDEBUG -I../inst/include -D USE_HDF5=1 -D USE_ZLIB=1 -I'/media/volume/teran2_disk/rapidbuild/bbs-3.21-bioc-rapid/R/site-library/Rcpp/include' -I'/media/volume/teran2_disk/rapidbuild/bbs-3.21-bioc-rapid/R/site-library/Rhdf5lib/include' -I/usr/local/include -fpic -g -O2 -Wall -Werror=format-security -DR_NO_REMAP -c RcppExports.cpp -o RcppExports.o g++ -std=gnu++17 -I"/home/rapidbuild/bbs-3.21-bioc-rapid/R/include" -DNDEBUG -I../inst/include -D USE_HDF5=1 -D USE_ZLIB=1 -I'/media/volume/teran2_disk/rapidbuild/bbs-3.21-bioc-rapid/R/site-library/Rcpp/include' -I'/media/volume/teran2_disk/rapidbuild/bbs-3.21-bioc-rapid/R/site-library/Rhdf5lib/include' -I/usr/local/include -fpic -g -O2 -Wall -Werror=format-security -DR_NO_REMAP -c get_best_type.cpp -o get_best_type.o g++ -std=gnu++17 -I"/home/rapidbuild/bbs-3.21-bioc-rapid/R/include" -DNDEBUG -I../inst/include -D USE_HDF5=1 -D USE_ZLIB=1 -I'/media/volume/teran2_disk/rapidbuild/bbs-3.21-bioc-rapid/R/site-library/Rcpp/include' -I'/media/volume/teran2_disk/rapidbuild/bbs-3.21-bioc-rapid/R/site-library/Rhdf5lib/include' -I/usr/local/include -fpic -g -O2 -Wall -Werror=format-security -DR_NO_REMAP -c h5exists.cpp -o h5exists.o g++ -std=gnu++17 -I"/home/rapidbuild/bbs-3.21-bioc-rapid/R/include" -DNDEBUG -I../inst/include -D USE_HDF5=1 -D USE_ZLIB=1 -I'/media/volume/teran2_disk/rapidbuild/bbs-3.21-bioc-rapid/R/site-library/Rcpp/include' -I'/media/volume/teran2_disk/rapidbuild/bbs-3.21-bioc-rapid/R/site-library/Rhdf5lib/include' -I/usr/local/include -fpic -g -O2 -Wall -Werror=format-security -DR_NO_REMAP -c validate.cpp -o validate.o g++ -std=gnu++17 -I"/home/rapidbuild/bbs-3.21-bioc-rapid/R/include" -DNDEBUG -I../inst/include -D USE_HDF5=1 -D USE_ZLIB=1 -I'/media/volume/teran2_disk/rapidbuild/bbs-3.21-bioc-rapid/R/site-library/Rcpp/include' -I'/media/volume/teran2_disk/rapidbuild/bbs-3.21-bioc-rapid/R/site-library/Rhdf5lib/include' -I/usr/local/include -fpic -g -O2 -Wall -Werror=format-security -DR_NO_REMAP -c write_scalar.cpp -o write_scalar.o g++ -std=gnu++17 -shared -L/usr/local/lib -o chihaya.so RcppExports.o get_best_type.o h5exists.o validate.o write_scalar.o /media/volume/teran2_disk/rapidbuild/bbs-3.21-bioc-rapid/R/site-library/Rhdf5lib/lib/libhdf5_cpp.a /media/volume/teran2_disk/rapidbuild/bbs-3.21-bioc-rapid/R/site-library/Rhdf5lib/lib/libhdf5.a -L/media/volume/teran2_disk/rapidbuild/bbs-3.21-bioc-rapid/R/site-library/Rhdf5lib/lib -lcrypto -lcurl -lsz -laec -lz -ldl -lm installing to /media/volume/teran2_disk/rapidbuild/bbs-3.21-bioc-rapid/R/site-library/00LOCK-chihaya/00new/chihaya/libs ** R ** inst ** byte-compile and prepare package for lazy loading ** help *** installing help indices ** building package indices ** installing vignettes ** testing if installed package can be loaded from temporary location ** checking absolute paths in shared objects and dynamic libraries ** testing if installed package can be loaded from final location ** testing if installed package keeps a record of temporary installation path * DONE (chihaya)