Package: chihaya Version: 1.7.0 Command: /home/rapidbuild/bbs-3.21-bioc-rapid/R/bin/R CMD INSTALL chihaya StartedAt: 2025-02-06 06:16:38 -0500 (Thu, 06 Feb 2025) EndedAt: 2025-02-06 06:17:09 -0500 (Thu, 06 Feb 2025) EllapsedTime: 30.9 seconds RetCode: 0 Status: OK