Package: cytolib Version: 2.19.3 Maintainer: Mike Jiang MaintainerEmail: mike at ozette.com git_url: https://git.bioconductor.org/packages/cytolib git_branch: devel git_last_commit: 1f886d9 git_last_commit_date: 2025-01-29 13:42:13 -0500 (Wed, 29 Jan 2025)