Package: cytolib Version: 2.19.3 Command: /home/rapidbuild/bbs-3.21-bioc-rapid/R/bin/R CMD check --install=check:cytolib.install-out.txt --library=/home/rapidbuild/bbs-3.21-bioc-rapid/R/site-library --timings cytolib_2.19.3.tar.gz StartedAt: 2025-02-05 08:14:45 -0500 (Wed, 05 Feb 2025) EndedAt: 2025-02-05 08:15:05 -0500 (Wed, 05 Feb 2025) EllapsedTime: 19.3 seconds RetCode: 0 Status: WARNINGS CheckDir: cytolib.Rcheck Warnings: 2