Package: cytolib Version: 2.19.3 Command: /home/rapidbuild/bbs-3.21-bioc-rapid/R/bin/R CMD INSTALL cytolib StartedAt: 2025-02-05 06:08:28 -0500 (Wed, 05 Feb 2025) EndedAt: 2025-02-05 06:10:43 -0500 (Wed, 05 Feb 2025) EllapsedTime: 135.4 seconds RetCode: 0 Status: OK