Package: densvis Version: 1.17.0 Command: /home/rapidbuild/bbs-3.21-bioc-rapid/R/bin/R CMD INSTALL densvis StartedAt: 2025-02-05 06:13:32 -0500 (Wed, 05 Feb 2025) EndedAt: 2025-02-05 06:13:49 -0500 (Wed, 05 Feb 2025) EllapsedTime: 16.2 seconds RetCode: 0 Status: OK