Package: ensembldb Version: 2.31.0 Command: /home/rapidbuild/bbs-3.21-bioc-rapid/R/bin/R CMD build --keep-empty-dirs --no-resave-data ensembldb StartedAt: 2025-02-06 06:49:03 -0500 (Thu, 06 Feb 2025) EndedAt: 2025-02-06 06:50:52 -0500 (Thu, 06 Feb 2025) EllapsedTime: 109.0 seconds RetCode: 0 Status: OK PackageFile: ensembldb_2.31.0.tar.gz PackageFileSize: 3.374 MiB