Package: fishpond Version: 2.13.0 Command: /home/rapidbuild/bbs-3.21-bioc-rapid/R/bin/R CMD build --keep-empty-dirs --no-resave-data fishpond StartedAt: 2025-02-06 06:50:53 -0500 (Thu, 06 Feb 2025) EndedAt: 2025-02-06 06:54:15 -0500 (Thu, 06 Feb 2025) EllapsedTime: 202.7 seconds RetCode: 0 Status: OK PackageFile: fishpond_2.13.0.tar.gz PackageFileSize: 3.915 MiB