Package: flowClust Version: 3.45.0 Command: /home/rapidbuild/bbs-3.21-bioc-rapid/R/bin/R CMD build --keep-empty-dirs --no-resave-data flowClust StartedAt: 2025-02-05 06:51:29 -0500 (Wed, 05 Feb 2025) EndedAt: 2025-02-05 06:53:17 -0500 (Wed, 05 Feb 2025) EllapsedTime: 108.0 seconds RetCode: 0 Status: OK PackageFile: flowClust_3.45.0.tar.gz PackageFileSize: 1.726 MiB