Package: flowClust Version: 3.45.0 Command: /home/rapidbuild/bbs-3.21-bioc-rapid/R/bin/R CMD check --install=check:flowClust.install-out.txt --library=/home/rapidbuild/bbs-3.21-bioc-rapid/R/site-library --timings flowClust_3.45.0.tar.gz StartedAt: 2025-02-05 08:31:42 -0500 (Wed, 05 Feb 2025) EndedAt: 2025-02-05 08:34:52 -0500 (Wed, 05 Feb 2025) EllapsedTime: 190.1 seconds RetCode: 0 Status: WARNINGS CheckDir: flowClust.Rcheck Warnings: 1