Package: flowClust Version: 3.45.0 Command: /home/rapidbuild/bbs-3.21-bioc-rapid/R/bin/R CMD INSTALL flowClust StartedAt: 2025-02-05 06:12:54 -0500 (Wed, 05 Feb 2025) EndedAt: 2025-02-05 06:14:58 -0500 (Wed, 05 Feb 2025) EllapsedTime: 124.0 seconds RetCode: 0 Status: OK