Package: fmcsR Version: 1.49.0 Command: /home/rapidbuild/bbs-3.21-bioc-rapid/R/bin/R CMD build --keep-empty-dirs --no-resave-data fmcsR StartedAt: 2025-02-06 06:55:37 -0500 (Thu, 06 Feb 2025) EndedAt: 2025-02-06 06:56:19 -0500 (Thu, 06 Feb 2025) EllapsedTime: 42.1 seconds RetCode: 0 Status: OK PackageFile: fmcsR_1.49.0.tar.gz PackageFileSize: 807.6 KiB