Package: fmcsR Version: 1.49.0 Command: /home/rapidbuild/bbs-3.21-bioc-rapid/R/bin/R CMD check --install=check:fmcsR.install-out.txt --library=/home/rapidbuild/bbs-3.21-bioc-rapid/R/site-library --timings fmcsR_1.49.0.tar.gz StartedAt: 2025-02-06 08:39:11 -0500 (Thu, 06 Feb 2025) EndedAt: 2025-02-06 08:40:13 -0500 (Thu, 06 Feb 2025) EllapsedTime: 62.3 seconds RetCode: 0 Status: WARNINGS CheckDir: fmcsR.Rcheck Warnings: 1