Package: gage Version: 2.57.0 Command: /home/rapidbuild/bbs-3.21-bioc-rapid/R/bin/R CMD INSTALL gage StartedAt: 2025-02-05 06:22:36 -0500 (Wed, 05 Feb 2025) EndedAt: 2025-02-05 06:22:49 -0500 (Wed, 05 Feb 2025) EllapsedTime: 12.7 seconds RetCode: 0 Status: OK