Package: gcrma Version: 2.79.0 Command: /home/rapidbuild/bbs-3.21-bioc-rapid/R/bin/R CMD build --keep-empty-dirs --no-resave-data gcrma StartedAt: 2025-02-06 06:55:55 -0500 (Thu, 06 Feb 2025) EndedAt: 2025-02-06 06:56:10 -0500 (Thu, 06 Feb 2025) EllapsedTime: 15.0 seconds RetCode: 0 Status: OK PackageFile: gcrma_2.79.0.tar.gz PackageFileSize: 288.9 KiB