Package: gcrma Version: 2.79.0 Command: /home/rapidbuild/bbs-3.21-bioc-rapid/R/bin/R CMD check --install=check:gcrma.install-out.txt --library=/home/rapidbuild/bbs-3.21-bioc-rapid/R/site-library --timings gcrma_2.79.0.tar.gz StartedAt: 2025-02-06 08:40:13 -0500 (Thu, 06 Feb 2025) EndedAt: 2025-02-06 08:41:37 -0500 (Thu, 06 Feb 2025) EllapsedTime: 83.7 seconds RetCode: 0 Status: OK CheckDir: gcrma.Rcheck Warnings: 0