Package: gcrma Version: 2.79.0 Command: /home/rapidbuild/bbs-3.21-bioc-rapid/R/bin/R CMD INSTALL gcrma StartedAt: 2025-02-06 06:28:49 -0500 (Thu, 06 Feb 2025) EndedAt: 2025-02-06 06:29:02 -0500 (Thu, 06 Feb 2025) EllapsedTime: 12.4 seconds RetCode: 0 Status: OK