Package: gdsfmt Version: 1.43.1 Command: /home/rapidbuild/bbs-3.21-bioc-rapid/R/bin/R CMD build --keep-empty-dirs --no-resave-data gdsfmt StartedAt: 2025-02-10 06:57:49 -0500 (Mon, 10 Feb 2025) EndedAt: 2025-02-10 07:00:58 -0500 (Mon, 10 Feb 2025) EllapsedTime: 188.2 seconds RetCode: 0 Status: OK PackageFile: gdsfmt_1.43.1.tar.gz PackageFileSize: 2.796 MiB