Package: ggcyto Version: 1.35.0 Command: /home/rapidbuild/bbs-3.21-bioc-rapid/R/bin/R CMD check --install=check:ggcyto.install-out.txt --library=/home/rapidbuild/bbs-3.21-bioc-rapid/R/site-library --timings ggcyto_1.35.0.tar.gz StartedAt: 2025-02-06 08:47:27 -0500 (Thu, 06 Feb 2025) EndedAt: 2025-02-06 08:50:36 -0500 (Thu, 06 Feb 2025) EllapsedTime: 188.2 seconds RetCode: 0 Status: WARNINGS CheckDir: ggcyto.Rcheck Warnings: 2