Package: ggtree Version: 3.15.0 Command: /home/rapidbuild/bbs-3.21-bioc-rapid/R/bin/R CMD check --install=check:ggtree.install-out.txt --library=/home/rapidbuild/bbs-3.21-bioc-rapid/R/site-library --timings ggtree_3.15.0.tar.gz StartedAt: 2025-02-06 08:47:41 -0500 (Thu, 06 Feb 2025) EndedAt: 2025-02-06 08:48:26 -0500 (Thu, 06 Feb 2025) EllapsedTime: 45.0 seconds RetCode: 0 Status: OK CheckDir: ggtree.Rcheck Warnings: 0