Package: ggtreeExtra Version: 1.17.0 Command: /home/rapidbuild/bbs-3.21-bioc-rapid/R/bin/R CMD INSTALL ggtreeExtra StartedAt: 2025-02-06 06:18:17 -0500 (Thu, 06 Feb 2025) EndedAt: 2025-02-06 06:18:22 -0500 (Thu, 06 Feb 2025) EllapsedTime: 5.0 seconds RetCode: 0 Status: OK