Package: hpar Version: 1.49.0 Command: /home/rapidbuild/bbs-3.21-bioc-rapid/R/bin/R CMD INSTALL hpar StartedAt: 2025-02-09 06:16:37 -0500 (Sun, 09 Feb 2025) EndedAt: 2025-02-09 06:16:48 -0500 (Sun, 09 Feb 2025) EllapsedTime: 11.4 seconds RetCode: 0 Status: OK