Package: impute Version: 1.81.0 Command: /home/rapidbuild/bbs-3.21-bioc-rapid/R/bin/R CMD INSTALL impute StartedAt: 2025-02-10 06:04:31 -0500 (Mon, 10 Feb 2025) EndedAt: 2025-02-10 06:04:33 -0500 (Mon, 10 Feb 2025) EllapsedTime: 1.7 seconds RetCode: 0 Status: OK