Package: interactiveDisplayBase Version: 1.45.0 Command: /home/rapidbuild/bbs-3.21-bioc-rapid/R/bin/R CMD build --keep-empty-dirs --no-resave-data interactiveDisplayBase StartedAt: 2025-02-06 07:07:08 -0500 (Thu, 06 Feb 2025) EndedAt: 2025-02-06 07:07:13 -0500 (Thu, 06 Feb 2025) EllapsedTime: 5.0 seconds RetCode: 0 Status: OK PackageFile: interactiveDisplayBase_1.45.0.tar.gz PackageFileSize: 7.573 KiB