Package: limma Version: 3.63.3 Command: /home/rapidbuild/bbs-3.21-bioc-rapid/R/bin/R CMD build --keep-empty-dirs --no-resave-data limma StartedAt: 2025-02-06 07:08:46 -0500 (Thu, 06 Feb 2025) EndedAt: 2025-02-06 07:09:05 -0500 (Thu, 06 Feb 2025) EllapsedTime: 18.6 seconds RetCode: 0 Status: OK PackageFile: limma_3.63.3.tar.gz PackageFileSize: 2.685 MiB