Package: mbkmeans Version: 1.23.0 Command: /home/rapidbuild/bbs-3.21-bioc-rapid/R/bin/R CMD build --keep-empty-dirs --no-resave-data mbkmeans StartedAt: 2025-02-06 07:10:24 -0500 (Thu, 06 Feb 2025) EndedAt: 2025-02-06 07:11:51 -0500 (Thu, 06 Feb 2025) EllapsedTime: 87.4 seconds RetCode: 0 Status: OK PackageFile: mbkmeans_1.23.0.tar.gz PackageFileSize: 293 KiB