Package: mbkmeans Version: 1.23.0 Command: /home/rapidbuild/bbs-3.21-bioc-rapid/R/bin/R CMD check --install=check:mbkmeans.install-out.txt --library=/home/rapidbuild/bbs-3.21-bioc-rapid/R/site-library --timings mbkmeans_1.23.0.tar.gz StartedAt: 2025-02-06 09:00:53 -0500 (Thu, 06 Feb 2025) EndedAt: 2025-02-06 09:05:32 -0500 (Thu, 06 Feb 2025) EllapsedTime: 279.2 seconds RetCode: 0 Status: OK CheckDir: mbkmeans.Rcheck Warnings: 0