Package: metapod Version: 1.15.0 Command: /home/rapidbuild/bbs-3.21-bioc-rapid/R/bin/R CMD INSTALL metapod StartedAt: 2025-02-10 06:09:53 -0500 (Mon, 10 Feb 2025) EndedAt: 2025-02-10 06:10:11 -0500 (Mon, 10 Feb 2025) EllapsedTime: 17.7 seconds RetCode: 0 Status: OK