Package: multtest Version: 2.63.0 Command: /home/rapidbuild/bbs-3.21-bioc-rapid/R/bin/R CMD INSTALL multtest StartedAt: 2025-02-06 06:14:13 -0500 (Thu, 06 Feb 2025) EndedAt: 2025-02-06 06:14:24 -0500 (Thu, 06 Feb 2025) EllapsedTime: 11.7 seconds RetCode: 0 Status: OK