Package: mzR Version: 2.41.1 Command: /home/rapidbuild/bbs-3.21-bioc-rapid/R/bin/R CMD build --keep-empty-dirs --no-resave-data mzR StartedAt: 2025-02-05 07:17:34 -0500 (Wed, 05 Feb 2025) EndedAt: 2025-02-05 07:24:47 -0500 (Wed, 05 Feb 2025) EllapsedTime: 432.9 seconds RetCode: 0 Status: OK PackageFile: mzR_2.41.1.tar.gz PackageFileSize: 7.363 MiB