Package: mzR Version: 2.41.1 Command: /home/rapidbuild/bbs-3.21-bioc-rapid/R/bin/R CMD check --install=check:mzR.install-out.txt --library=/home/rapidbuild/bbs-3.21-bioc-rapid/R/site-library --timings mzR_2.41.1.tar.gz StartedAt: 2025-02-05 09:11:47 -0500 (Wed, 05 Feb 2025) EndedAt: 2025-02-05 09:12:48 -0500 (Wed, 05 Feb 2025) EllapsedTime: 61.6 seconds RetCode: 0 Status: WARNINGS CheckDir: mzR.Rcheck Warnings: 2