Package: mzR Version: 2.41.1 Command: /home/rapidbuild/bbs-3.21-bioc-rapid/R/bin/R CMD INSTALL mzR StartedAt: 2025-02-05 06:09:42 -0500 (Wed, 05 Feb 2025) EndedAt: 2025-02-05 06:16:58 -0500 (Wed, 05 Feb 2025) EllapsedTime: 436.5 seconds RetCode: 0 Status: OK