Package: ncdfFlow Version: 2.53.1 Command: /home/rapidbuild/bbs-3.21-bioc-rapid/R/bin/R CMD build --keep-empty-dirs --no-resave-data ncdfFlow StartedAt: 2025-02-05 07:17:48 -0500 (Wed, 05 Feb 2025) EndedAt: 2025-02-05 07:18:11 -0500 (Wed, 05 Feb 2025) EllapsedTime: 23.0 seconds RetCode: 0 Status: OK PackageFile: ncdfFlow_2.53.1.tar.gz PackageFileSize: 198.8 KiB