Package: pRoloc Version: 1.47.1 Command: /home/rapidbuild/bbs-3.21-bioc-rapid/R/bin/R CMD build --keep-empty-dirs --no-resave-data pRoloc StartedAt: 2025-02-06 07:20:17 -0500 (Thu, 06 Feb 2025) EndedAt: 2025-02-06 07:24:45 -0500 (Thu, 06 Feb 2025) EllapsedTime: 268.2 seconds RetCode: 0 Status: OK PackageFile: pRoloc_1.47.1.tar.gz PackageFileSize: 10.31 MiB