Package: pRoloc Version: 1.47.1 Command: /home/rapidbuild/bbs-3.21-bioc-rapid/R/bin/R CMD check --install=check:pRoloc.install-out.txt --library=/home/rapidbuild/bbs-3.21-bioc-rapid/R/site-library --timings pRoloc_1.47.1.tar.gz StartedAt: 2025-02-06 09:10:53 -0500 (Thu, 06 Feb 2025) EndedAt: 2025-02-06 09:22:30 -0500 (Thu, 06 Feb 2025) EllapsedTime: 697.6 seconds RetCode: 0 Status: OK CheckDir: pRoloc.Rcheck Warnings: 0