Package: pRoloc Version: 1.47.1 Command: /home/rapidbuild/bbs-3.21-bioc-rapid/R/bin/R CMD INSTALL pRoloc StartedAt: 2025-02-06 06:26:13 -0500 (Thu, 06 Feb 2025) EndedAt: 2025-02-06 06:27:22 -0500 (Thu, 06 Feb 2025) EllapsedTime: 68.7 seconds RetCode: 0 Status: OK