Package: pcaMethods Version: 1.99.0 Command: /home/rapidbuild/bbs-3.21-bioc-rapid/R/bin/R CMD build --keep-empty-dirs --no-resave-data pcaMethods StartedAt: 2025-02-10 07:22:14 -0500 (Mon, 10 Feb 2025) EndedAt: 2025-02-10 07:23:28 -0500 (Mon, 10 Feb 2025) EllapsedTime: 73.3 seconds RetCode: 0 Status: OK PackageFile: pcaMethods_1.99.0.tar.gz PackageFileSize: 1017 KiB