Package: phyloseq Version: 1.51.0 Command: /home/rapidbuild/bbs-3.21-bioc-rapid/R/bin/R CMD build --keep-empty-dirs --no-resave-data phyloseq StartedAt: 2025-02-13 13:12:57 -0500 (Thu, 13 Feb 2025) EndedAt: 2025-02-13 13:14:15 -0500 (Thu, 13 Feb 2025) EllapsedTime: 78.2 seconds RetCode: 0 Status: OK PackageFile: phyloseq_1.51.0.tar.gz PackageFileSize: 6.064 MiB