Package: pwalign Version: 1.3.2 Command: /home/rapidbuild/bbs-3.21-bioc-rapid/R/bin/R CMD INSTALL pwalign StartedAt: 2025-02-05 06:20:23 -0500 (Wed, 05 Feb 2025) EndedAt: 2025-02-05 06:20:38 -0500 (Wed, 05 Feb 2025) EllapsedTime: 15.4 seconds RetCode: 0 Status: OK