Package: qvalue Version: 2.39.0 Command: /home/rapidbuild/bbs-3.21-bioc-rapid/R/bin/R CMD INSTALL qvalue StartedAt: 2025-02-06 06:17:41 -0500 (Thu, 06 Feb 2025) EndedAt: 2025-02-06 06:17:46 -0500 (Thu, 06 Feb 2025) EllapsedTime: 5.0 seconds RetCode: 0 Status: OK