Package: rhdf5 Version: 2.51.2 Command: /home/rapidbuild/bbs-3.21-bioc-rapid/R/bin/R CMD build --keep-empty-dirs --no-resave-data rhdf5 StartedAt: 2025-02-06 07:26:32 -0500 (Thu, 06 Feb 2025) EndedAt: 2025-02-06 07:30:41 -0500 (Thu, 06 Feb 2025) EllapsedTime: 248.6 seconds RetCode: 1 Status: ERROR PackageFile: None PackageFileSize: NA