Package: rhdf5 Version: 2.51.2 Command: /home/rapidbuild/bbs-3.21-bioc-rapid/R/bin/R CMD check --install=check:rhdf5.install-out.txt --library=/home/rapidbuild/bbs-3.21-bioc-rapid/R/site-library --timings rhdf5_2.51.2.tar.gz StartedAt: 2025-01-31 21:24:55 -0500 (Fri, 31 Jan 2025) EndedAt: 2025-01-31 21:31:19 -0500 (Fri, 31 Jan 2025) EllapsedTime: 383.5 seconds RetCode: 1 Status: ERROR CheckDir: rhdf5.Rcheck Warnings: NA